BEGIN:VCALENDAR
VERSION:2.0
PRODID:-//PMI Liberia - ECPv6.15.20//NONSGML v1.0//EN
CALSCALE:GREGORIAN
METHOD:PUBLISH
X-ORIGINAL-URL:https://pmiliberiachapter.org
X-WR-CALDESC:Events for PMI Liberia
REFRESH-INTERVAL;VALUE=DURATION:PT1H
X-Robots-Tag:noindex
X-PUBLISHED-TTL:PT1H
BEGIN:VTIMEZONE
TZID:UTC
BEGIN:STANDARD
TZOFFSETFROM:+0000
TZOFFSETTO:+0000
TZNAME:UTC
DTSTART:20230101T000000
END:STANDARD
END:VTIMEZONE
BEGIN:VEVENT
DTSTART;TZID=UTC:20240928T080000
DTEND;TZID=UTC:20240928T170000
DTSTAMP:20260423T160707
CREATED:20240928T175635Z
LAST-MODIFIED:20240928T175635Z
UID:1308-1727510400-1727542800@pmiliberiachapter.org
SUMMARY:TEst event
DESCRIPTION:
URL:https://pmiliberiachapter.org/event/test-event/
END:VEVENT
END:VCALENDAR